Workbook

Sheet Input
A1: Paste your table below line 2 and up to 18 between column A to F (can be extended but have to modify Product page)
A3: [https://wiswiki.wmo.int/tiki-download_file.php?fileId=3212&display|__CDMS Component__] | B3: __Status__ | C3: __ Stage (%)__ | D3: __Mind Map Analysis__ | E3: __User Story__ | F3: __Conceptual Diagram__ | G3: __Date last revised__ | H3: __Comments__
A4: 3. [https://wiswiki.wmo.int/tiki-download_file.php?fileId=3209&display|CDMS Governance] | B4: Preliminary analysis | C4: 100 | D4: [https://wiswiki.wmo.int/tiki-download_file.php?fileId=3218|.mm] [https://wiswiki.wmo.int/tiki-download_file.php?fileId=3219&display|%%%.pdf] | G4: 2016-08
A5: 4. [https://wiswiki.wmo.int/tiki-download_file.php?fileId=3206&display|Time-series climate data] | B5: Detailed Analysis | C5: 50 | D5: [https://wiswiki.wmo.int/tiki-download_file.php?fileId=3220|.mm] [https://wiswiki.wmo.int/tiki-download_file.php?fileId=3221&display|%%%.pdf] | G5: 2016-11
A6: 4.1 Observations data | B6: Detailed Analysis | C6: 50 | E6: [https://wiswiki.wmo.int/tiki-download_file.php?fileId=3270&display|User story: 4.1 Observations data] | F6: [https://wiswiki.wmo.int/tiki-download_file.php?fileId=3214&display|An Observation] | G6: 2016-11
A7: 4.2 Logical data models | B7: Preliminary analysis | C7: 100 | D7: [https://wiswiki.wmo.int/tiki-download_file.php?fileId=3222|.mm] [https://wiswiki.wmo.int/tiki-download_file.php?fileId=3223&display|%%%.pdf] | E7: [https://wiswiki.wmo.int/tiki-download_file.php?fileId=3269&display|User story: Logical Data Model - Neutral CDMS Archive] | G7: 2017-01 | H7: ~~#06F:The Logical Data Model - Neutral CDMS Archive data format will probably need considerable engagement with CBS - IPET-DD, once the data model for a CDMS Database is known~~%%% %%%The 5.2 analysis and user stories needs considerable work. We need to cater for at least the 'Community agreed standard vocabularies' as illustrated in the _Climate data services conceptual diagram_ below.%%%This functionality is required to underpin federated global climate data services of consistent data sematics
A8: 4.3 Climate metadata | B8: Preliminary analysis | C8: 100 | D8: [https://wiswiki.wmo.int/tiki-download_file.php?fileId=3242|.mm] [https://wiswiki.wmo.int/tiki-download_file.php?fileId=3243&display|%%%.pdf] | E8: [https://wiswiki.wmo.int/tiki-download_file.php?fileId=3245&display|User story: 4.3.3 Climate Data Provenance - W3C] | G8: 2017-01 | H8: In the next version of the CDMS Specifications:%%%- the Climate Observations Metadata components will be adjusted to be consistent with the WMO WIGOS (Observations) Metadata standard%%%- Data Intellectual Property Metadata may be also included as a subcomponent of Climate metadata. See also info in new component section in the table below.
A9: 4.3.1 Observations metadata | B9: Preliminary analysis | C9: 100
A10: 4.3.2 Dataset discovery metadata | B10: Preliminary analysis | C10: 100
A11: 4.3.3 Data provenance | B11: Preliminary analysis | C11: 100
A12: 4.4 WMO standard products | B12: Preliminary analysis | C12: 100 | D12: [https://wiswiki.wmo.int/tiki-download_file.php?fileId=3360|.mm] [https://wiswiki.wmo.int/tiki-download_file.php?fileId=3361&display|%%%.pdf]
A13: 4.5 Derived climate data | B13: Detailed Analysis | C13: 30 | D13: [https://wiswiki.wmo.int/tiki-download_file.php?fileId=3366|.mm] [https://wiswiki.wmo.int/tiki-download_file.php?fileId=3367&display|%%%.pdf] | H13: Need to include from Nov 2016 mind map analysis:%%% %%%- derived statistical data (Extremes, Normals, Anomalies, averages, homogenised date etc.) and other types of derived data%%% %%%- Spatial Views from derived data as discrete point coverages (perhaps by variable and observations network)%%% %%%- climate monitoring grids as continuous coverages derived from the spatial views
A14: 4.6 Ancillary data | B14: Preliminary analysis | C14: 100 | D14: [https://wiswiki.wmo.int/tiki-download_file.php?fileId=3368|.mm] [https://wiswiki.wmo.int/tiki-download_file.php?fileId=3369&display|%%%.pdf]
A15: 5. [https://wiswiki.wmo.int/tiki-download_file.php?fileId=3213&display|Climate data management] | B15: Preliminary analysis | C15: 100 | G15: 2016-08
A16: 5.1 Ingest and extract | B16: Detailed Analysis | C16: 95 | D16: [https://wiswiki.wmo.int/tiki-download_file.php?fileId=3224|.mm] [https://wiswiki.wmo.int/tiki-download_file.php?fileId=3225&display|%%%.pdf] | E16: [https://wiswiki.wmo.int/tiki-download_file.php?fileId=3260&display|User story: 5.1 Ingest and Extract] | F16: [https://wiswiki.wmo.int/tiki-download_file.php?fileId=3215&display|Ingest and Extract] | G16: 2016-11 | H16: Need to update User Story to match mind map analysis
A17: 5.2 Data rescue | B17: Preliminary analysis | C17: 100 | D17: [https://wiswiki.wmo.int/tiki-download_file.php?fileId=3363|.mm] [https://wiswiki.wmo.int/tiki-download_file.php?fileId=3362&display|%%%.pdf] | E17: [https://wiswiki.wmo.int/tiki-download_file.php?fileId=3261&display|User story: 5.2 Climate Data Rescue - ET-CDMS] [https://wiswiki.wmo.int/tiki-download_file.php?fileId=3247&display|%%% %%%User story: 5.2 Climate Data Rescue - W3C] | H17: ~~#06F:Need to approach ET-DARE for help developing appropriate user stories~~
A18: 5.3 Observations quality control | B18: Preliminary analysis | C18: 100 | D18: [https://wiswiki.wmo.int/tiki-download_file.php?fileId=3365|.mm] [https://wiswiki.wmo.int/tiki-download_file.php?fileId=3364&display|%%%.pdf] | E18: [https://wiswiki.wmo.int/tiki-download_file.php?fileId=3297&display|User story: 5.3 Observations Quality Control - ET-CDMS] | F18: [https://wiswiki.wmo.int/tiki-download_file.php?fileId=3216&display|Observations QC/QA] | G18: 2016-11 | H18: Work is required to assess to suitability of using the ISO Standard 19157, Geographic Information - Data Quality: as a data quality framework for Climate Data
A19: 5.4 Quality assessment | B19: Preliminary analysis | C19: 100 | D19: [https://wiswiki.wmo.int/tiki-download_file.php?fileId=3370|.mm] [https://wiswiki.wmo.int/tiki-download_file.php?fileId=3371&display|%%%.pdf]
A20: 5.5 Climate metadata | B20: Preliminary analysis | C20: 100 | D20: [https://wiswiki.wmo.int/tiki-download_file.php?fileId=3372|.mm] [https://wiswiki.wmo.int/tiki-download_file.php?fileId=3373&display|%%%.pdf] | E20: [https://wiswiki.wmo.int/tiki-download_file.php?fileId=3245&display|User story: 4.3.3 Climate Data Provenance - W3C]
A21: 6. [https://wiswiki.wmo.int/tiki-download_file.php?fileId=3207&display|Climate data analysis] | B21: Detailed Analysis | C21: 10 | D21: [https://wiswiki.wmo.int/tiki-download_file.php?fileId=3226|.mm] [https://wiswiki.wmo.int/tiki-download_file.php?fileId=3227&display|%%%.pdf] | E21: [https://wiswiki.wmo.int/tiki-download_file.php?fileId=3303&display|User story: 6.1 Analyse and Generate Climate Data - Generic] | G21: 2016-11
A22: 6.1.1 Climate modelling | B22: Preliminary analysis | C22: 100
A23: 6.1.2 Generate derived data from climate observations | B23: Preliminary analysis | C23: 100 | E23: [https://wiswiki.wmo.int/tiki-download_file.php?fileId=3248&display|User story: 6.1.2 Generate climate monitoring grids - ET-CDMS-1] [https://wiswiki.wmo.int/tiki-download_file.php?fileId=3351&display|%%% %%%User story: 6.1.2 Generate climate monitoring grids - derived from remotely sensed imagery - ET-CDMS-1] [https://wiswiki.wmo.int/tiki-download_file.php?fileId=3246&display|%%% %%%User story: 6.1.2 Virtual Observations - W3C] [https://wiswiki.wmo.int/tiki-download_file.php?fileId=3285&display|%%% %%%User story: 6.1.2 Generate Standard WMO Data Product] [https://wiswiki.wmo.int/tiki-download_file.php?fileId=3286&display|%%% %%%User story: 6.1.2 Generate Observations Statistical Data] | H23: ~~#06F:Refer '6.1.2 Generate Observations Statistical Data' to IPET-CDMP for advice on how we determine consistent rules to use for the generation of the statistics~~%%% %%%NB: We may need to move the user story 6.1.2 Generate WMO Standard Data Product under 5.1.2 Ingest and Extract. %%%To be confirmed. %%%It will depend on the level of analytical capability required to generate the WMO data products
A24: 6.1.3 Data homogenization | B24: Preliminary analysis | C24: 100 | E24: [https://wiswiki.wmo.int/tiki-download_file.php?fileId=3308&display|User story: 6.1.3 Climate Data Homogenisation - ET-CDMS-1] | H24: This component needs to be split between QC and also analysis
A25: 7. [https://wiswiki.wmo.int/tiki-download_file.php?fileId=3211&display|Climate data presentation] | B25: Preliminary analysis | C25: 100 | D25: [https://wiswiki.wmo.int/tiki-download_file.php?fileId=3374|.mm] [https://wiswiki.wmo.int/tiki-download_file.php?fileId=3375&display|%%%.pdf] | E25: [https://wiswiki.wmo.int/tiki-download_file.php?fileId=3352&display|User story: 7.1 CDMS GUI - Data Exploration - ET-CDMS-1] | G25: 2016-08 | H25: Also known as the User Interface
A26: 7.1.1 Tables and charts | B26: Preliminary analysis | C26: 100
A27: 7.1.2 Manage content | B27: Preliminary analysis | C27: 100
A28: 7.1.3 Visualization | B28: Preliminary analysis | C28: 100
A29: 7.1.4 Integrated search of climate data | B29: Preliminary analysis | C29: 100 | E29: [https://wiswiki.wmo.int/tiki-download_file.php?fileId=3298&display|User story: 7.1.4 Integrated Search - Find and Flag anomalous values - ET-CDMS-1] [https://wiswiki.wmo.int/tiki-download_file.php?fileId=3300&display|%%% %%%User story: 7.1.4 Integrated Search - classify observations by data quality - ET-CDMS-1] [https://wiswiki.wmo.int/tiki-download_file.php?fileId=3353&display|%%% %%%User story: 7.1.4 Integrated Search - Determine Prevailing Winds at Location - ET-CDMS-1] [https://wiswiki.wmo.int/tiki-download_file.php?fileId=3249&display|%%% %%%User story: 7.1.4 Recover from decommissioned station using Integrated Search GUI - ET-CDMS-1] [https://wiswiki.wmo.int/tiki-download_file.php?fileId=3253&display|%%% %%%User story: 7.1.4 aggregate climate stations using Integrated Search GUI - ET-CDMS-1]
A30: 7.1.5 Data download | B30: Preliminary analysis | C30: 100
A31: 8. [https://wiswiki.wmo.int/tiki-download_file.php?fileId=3210&display|Climate data delivery services] | B31: Detailed Analysis | C31: 75 | F31: [https://wiswiki.wmo.int/tiki-download_file.php?fileId=3217&display|Climate data services] | G31: 2016-11
A32: 8.1 Open spatial standards | B32: Detailed Analysis | C32: 75 | E32: [https://wiswiki.wmo.int/tiki-download_file.php?fileId=3268&display|User story: 8.1 Federated Global Data Service]
A33: 8.2 Data discovery | B33: Preliminary analysis | C33: 100 | E33: [https://wiswiki.wmo.int/tiki-download_file.php?fileId=3250&display|User story: 8.2 Discover data provenance - ET-CDMS-1] [https://wiswiki.wmo.int/tiki-download_file.php?fileId=3359&display|%%% %%%User story: 8.2 Data Discovery - ET-CDMS] [https://wiswiki.wmo.int/tiki-download_file.php?fileId=3244&display|%%% %%%User story: 8.2.2 Linked Data access to observations - W3C] | H33: This needs considerable work
A34: 8.3 Other formats | B34: Preliminary analysis | C34: 100
A35: 9. [https://wiswiki.wmo.int/tiki-download_file.php?fileId=3208&display|Core IT infrastructure] | B35: Preliminary analysis | C35: 100 | D35: [https://wiswiki.wmo.int/tiki-download_file.php?fileId=3376|.mm] [https://wiswiki.wmo.int/tiki-download_file.php?fileId=3377&display|%%%.pdf] | G35: 2016-08
A37: New Components
A38: Configuration | B38: Detailed Analysis | C38: 25 | D38: [https://wiswiki.wmo.int/tiki-download_file.php?fileId=3228|.mm] [https://wiswiki.wmo.int/tiki-download_file.php?fileId=3229&display|%%%.pdf] | E38: [https://wiswiki.wmo.int/tiki-download_file.php?fileId=3255&display|User story: xxx CDMS Configuration - User Management] [https://wiswiki.wmo.int/tiki-download_file.php?fileId=3254&display|%%% %%%User story: xxx CDMS Configuration - New Data Product approval] [https://wiswiki.wmo.int/tiki-download_file.php?fileId=3257&display|%%% %%%User story: xxx CDMS Configuration - New Station] [https://wiswiki.wmo.int/tiki-download_file.php?fileId=3256&display|%%% %%%User story: xxx CDMS Configuration - New Observed Variable] [https://wiswiki.wmo.int/tiki-download_file.php?fileId=3294&display|%%% %%%User story: xxx CDMS Configuration - New Sensor] | G38: 2016-11 | H38: Need much more work on analysis. Need to create user stories from current mind map analysis and add current user stories to mind map.
A39: Climate Data Management | B39: Preliminary analysis | C39: 25 | E39: [https://wiswiki.wmo.int/tiki-download_file.php?fileId=3301&display|User story: xxx Climate Data Management - Manage Change in Station Location] | G39: 2017-01 | H39: _Manage Change in Station Location_ user story needs careful thought and analysis. It has significant implications.%%% %%%As a general note for climate data management, assume that:%%% %%% - All observation data undergoes a suite of automated QC and QA processes%%% %%% - Some data will undergo a further manual QC/QA process if it is deemed appropriate%%% %%% - All data will be available via the climate data services and download%%% %%% - The NMHS? or WMO? policy will define what level of data quality (QA Flag) is available for download%%% %%%We should perhaps really aim for a position where all data is available for download, [http://dictionary.cambridge.org/dictionary/english/warts-and-all|warts and all] with appropriate data description in the Discovery Metadata and Data Provenance Metadata. Then it is a case of _user beware_. The data may be useful for specific use cases.
A40: Data Intellectual Property | B40: Not Started | C40: 0 | G40: 2016-11 | H40: Functionality is required to store and manage the Intellectual Property of data. This includes:%%%- Who ‘owns' the source data?%%%- Has the person or organisation capturing the historical data assigned their IP rights in the data (this is particularly important with crowd-sourced data)?%%%- Are there any constraints on the use of the data by others?%%%- Copy of Data License Agreement.%%% %%%This component will need to cater for datasets and for data of mixed IP where source data comes from a number of sources.%%% %%%This is particularly important as NMHS move to embrace Citizen Volunteered data (e.g. 3rd Party data).

Sheet product
A1: Copy text below and paste into wiki | B1: Delete unwanted lines, or expand concatinate expresssion if needed.
A2: || | B2: Must end and start with || and make sure that no two | occur elsewhere
A3: =+CONCATENATE(Input!A3," |",Input!B3," |",Input!C3," |",Input!D3," |",Input!E3," |",Input!F3," |",Input!G3," |",Input!H3," |",Input!I3) -> [https://wiswiki.wmo.int/tiki-download_file.php?fileId=3212&display|__CDMS Component__] |__Status__ |__ Stage (%)__ |__Mind Map Analysis__ |__User Story__ |__Conceptual Diagram__ |__Date last revised__ |__Comments__ |
A4: =+CONCATENATE(Input!A4," |",Input!B4," |",Input!C4," |",Input!D4," |",Input!E4," |",Input!F4," |",Input!G4," |",Input!H4," |",Input!I4) -> 3. [https://wiswiki.wmo.int/tiki-download_file.php?fileId=3209&display|CDMS Governance] |Preliminary analysis |100 |[https://wiswiki.wmo.int/tiki-download_file.php?fileId=3218|.mm] [https://wiswiki.wmo.int/tiki-download_file.php?fileId=3219&display|%%%.pdf] | | |2016-08 | |
A5: =+CONCATENATE(Input!A5," |",Input!B5," |",Input!C5," |",Input!D5," |",Input!E5," |",Input!F5," |",Input!G5," |",Input!H5," |",Input!I5) -> 4. [https://wiswiki.wmo.int/tiki-download_file.php?fileId=3206&display|Time-series climate data] |Detailed Analysis |50 |[https://wiswiki.wmo.int/tiki-download_file.php?fileId=3220|.mm] [https://wiswiki.wmo.int/tiki-download_file.php?fileId=3221&display|%%%.pdf] | | |2016-11 | |
A6: =+CONCATENATE(Input!A6," |",Input!B6," |",Input!C6," |",Input!D6," |",Input!E6," |",Input!F6," |",Input!G6," |",Input!H6," |",Input!I6) -> 4.1 Observations data |Detailed Analysis |50 | |[https://wiswiki.wmo.int/tiki-download_file.php?fileId=3270&display|User story: 4.1 Observations data] |[https://wiswiki.wmo.int/tiki-download_file.php?fileId=3214&display|An Observation] |2016-11 | |
A7: =+CONCATENATE(Input!A7," |",Input!B7," |",Input!C7," |",Input!D7," |",Input!E7," |",Input!F7," |",Input!G7," |",Input!H7," |",Input!I7) -> 4.2 Logical data models |Preliminary analysis |100 |[https://wiswiki.wmo.int/tiki-download_file.php?fileId=3222|.mm] [https://wiswiki.wmo.int/tiki-download_file.php?fileId=3223&display|%%%.pdf] |[https://wiswiki.wmo.int/tiki-download_file.php?fileId=3269&display|User story: Logical Data Model - Neutral CDMS Archive] | |2017-01 |~~#06F:The Logical Data Model - Neutral CDMS Archive data format will probably need considerable engagement with CBS - IPET-DD, once the data model for a CDMS Database is known~~%%% %%%The 5.2 analysis and user stories needs considerable work. We need to cater for at least the 'Community agreed standard vocabularies' as illustrated in the _Climate data services conceptual diagram_ below.%%%This functionality is required to underpin federated global climate data services of consistent data sematics |
A8: =+CONCATENATE(Input!A8," |",Input!B8," |",Input!C8," |",Input!D8," |",Input!E8," |",Input!F8," |",Input!G8," |",Input!H8," |",Input!I8) -> 4.3 Climate metadata |Preliminary analysis |100 |[https://wiswiki.wmo.int/tiki-download_file.php?fileId=3242|.mm] [https://wiswiki.wmo.int/tiki-download_file.php?fileId=3243&display|%%%.pdf] |[https://wiswiki.wmo.int/tiki-download_file.php?fileId=3245&display|User story: 4.3.3 Climate Data Provenance - W3C] | |2017-01 |In the next version of the CDMS Specifications:%%%- the Climate Observations Metadata components will be adjusted to be consistent with the WMO WIGOS (Observations) Metadata standard%%%- Data Intellectual Property Metadata may be also included as a subcomponent of Climate metadata. See also info in new component section in the table below. |
A9: =+CONCATENATE(Input!A9," |",Input!B9," |",Input!C9," |",Input!D9," |",Input!E9," |",Input!F9," |",Input!G9," |",Input!H9," |",Input!I9) -> 4.3.1 Observations metadata |Preliminary analysis |100 | | | | | |
A10: =+CONCATENATE(Input!A10," |",Input!B10," |",Input!C10," |",Input!D10," |",Input!E10," |",Input!F10," |",Input!G10," |",Input!H10," |",Input!I10) -> 4.3.2 Dataset discovery metadata |Preliminary analysis |100 | | | | | |
A11: =+CONCATENATE(Input!A11," |",Input!B11," |",Input!C11," |",Input!D11," |",Input!E11," |",Input!F11," |",Input!G11," |",Input!H11," |",Input!I11) -> 4.3.3 Data provenance |Preliminary analysis |100 | | | | | |
A12: =+CONCATENATE(Input!A12," |",Input!B12," |",Input!C12," |",Input!D12," |",Input!E12," |",Input!F12," |",Input!G12," |",Input!H12," |",Input!I12) -> 4.4 WMO standard products |Preliminary analysis |100 |[https://wiswiki.wmo.int/tiki-download_file.php?fileId=3360|.mm] [https://wiswiki.wmo.int/tiki-download_file.php?fileId=3361&display|%%%.pdf] | | | | |
A13: =+CONCATENATE(Input!A13," |",Input!B13," |",Input!C13," |",Input!D13," |",Input!E13," |",Input!F13," |",Input!G13," |",Input!H13," |",Input!I13) -> 4.5 Derived climate data |Detailed Analysis |30 |[https://wiswiki.wmo.int/tiki-download_file.php?fileId=3366|.mm] [https://wiswiki.wmo.int/tiki-download_file.php?fileId=3367&display|%%%.pdf] | | | |Need to include from Nov 2016 mind map analysis:%%% %%%- derived statistical data (Extremes, Normals, Anomalies, averages, homogenised date etc.) and other types of derived data%%% %%%- Spatial Views from derived data as discrete point coverages (perhaps by variable and observations network)%%% %%%- climate monitoring grids as continuous coverages derived from the spatial views |
A14: =+CONCATENATE(Input!A14," |",Input!B14," |",Input!C14," |",Input!D14," |",Input!E14," |",Input!F14," |",Input!G14," |",Input!H14," |",Input!I14) -> 4.6 Ancillary data |Preliminary analysis |100 |[https://wiswiki.wmo.int/tiki-download_file.php?fileId=3368|.mm] [https://wiswiki.wmo.int/tiki-download_file.php?fileId=3369&display|%%%.pdf] | | | | |
... A40: =+CONCATENATE(Input!A40," |",Input!B40," |",Input!C40," |",Input!D40," |",Input!E40," |",Input!F40," |",Input!G40," |",Input!H40," |",Input!I40) -> Data Intellectual Property |Not Started |0 | | | |2016-11 |Functionality is required to store and manage the Intellectual Property of data. This includes:%%%- Who ‘owns' the source data?%%%- Has the person or organisation capturing the historical data assigned their IP rights in the data (this is particularly important with crowd-sourced data)?%%%- Are there any constraints on the use of the data by others?%%%- Copy of Data License Agreement.%%% %%%This component will need to cater for datasets and for data of mixed IP where source data comes from a number of sources.%%% %%%This is particularly important as NMHS move to embrace Citizen Volunteered data (e.g. 3rd Party data). |
A41: ||

Sheet Sheet3
A1: CDMS Component | B1: Status | C1: User Story File | D1: Mind Map Analysis | E1: Conceptual Diagram | F1: User Story Title | G1: User Story Sub-section reference | H1: Comments
A2: 3. CDMS Governance | B2: Preliminary analysis | D2: .mm .pdf
A3: 4. Time-series climate data | B3: Not complete | D3: .mm .pdf | E3: An Observation
A4: 5. Climate data management | B4: Not complete | D4: Data Ingest and Extract .mm .pdf | E4: Ingest and Extract Observations QC/QA
A5: 6. Climate data analysis | B5: Not complete | D5: .mm.pdf
A6: 7. Climate data presentation | B6: Preliminary analysis | H6: Also known as the User Interface
A7: 8. Climate data service delivery | B7: Not complete | E7: Climate data services
A8: 9. Core IT infrastructure | B8: Preliminary analysis
